BEGIN:VCALENDAR
VERSION:2.0
PRODID:-//wp-events-plugin.com//7.2.3.1//EN
TZID:Europe/Paris
X-WR-TIMEZONE:Europe/Paris
BEGIN:VEVENT
UID:99@montbeugny.fr
DTSTART;TZID=Europe/Paris:20260207T133000
DTEND;TZID=Europe/Paris:20260207T133000
DTSTAMP:20260131T091242Z
URL:https://montbeugny.fr/events/rencontres-de-la-s-t-t-m-a/
SUMMARY:Rencontres de l'A.S.T.T.M.A.
DESCRIPTION:
ATTACH;FMTTYPE=image/jpeg:https://montbeugny.fr/wp-content/uploads/2026/01
 /Affiche-A4-match-du-07022026.jpg
CATEGORIES:Manifestations associations
END:VEVENT
BEGIN:VTIMEZONE
TZID:Europe/Paris
X-LIC-LOCATION:Europe/Paris
BEGIN:STANDARD
DTSTART:20251026T020000
TZOFFSETFROM:+0200
TZOFFSETTO:+0100
TZNAME:CET
END:STANDARD
END:VTIMEZONE
END:VCALENDAR