BEGIN:VCALENDAR
VERSION:2.0
PRODID:-//wp-events-plugin.com//7.2.3.1//EN
TZID:Europe/Paris
X-WR-TIMEZONE:Europe/Paris
BEGIN:VEVENT
UID:107@montbeugny.fr
DTSTART;TZID=Europe/Paris:20260503T120000
DTEND;TZID=Europe/Paris:20260503T200000
DTSTAMP:20260424T144157Z
URL:https://montbeugny.fr/events/prix-cycliste-de-montbeugny-2/
SUMMARY:Prix cycliste de Montbeugny
DESCRIPTION:
ATTACH;FMTTYPE=image/jpeg:https://montbeugny.fr/wp-content/uploads/2026/04
 /Course-cycliste-03052026-scaled.jpg
CATEGORIES:Manifestations associations
END:VEVENT
BEGIN:VTIMEZONE
TZID:Europe/Paris
X-LIC-LOCATION:Europe/Paris
BEGIN:DAYLIGHT
DTSTART:20260329T030000
TZOFFSETFROM:+0100
TZOFFSETTO:+0200
TZNAME:CEST
END:DAYLIGHT
END:VTIMEZONE
END:VCALENDAR