BEGIN:VCALENDAR
VERSION:2.0
PRODID:-//wp-events-plugin.com//7.2.3.1//EN
TZID:Europe/Paris
X-WR-TIMEZONE:Europe/Paris
BEGIN:VEVENT
UID:108@montbeugny.fr
DTSTART;TZID=Europe/Paris:20260509T133000
DTEND;TZID=Europe/Paris:20260509T200000
DTSTAMP:20260425T095349Z
URL:https://montbeugny.fr/events/matchs-de-lasttma-2/
SUMMARY:Matchs de l'ASTTMA
DESCRIPTION:
ATTACH;FMTTYPE=image/jpeg:https://montbeugny.fr/wp-content/uploads/2026/04
 /IMG-20260422-WA0001.jpg
CATEGORIES:Manifestations associations
END:VEVENT
BEGIN:VTIMEZONE
TZID:Europe/Paris
X-LIC-LOCATION:Europe/Paris
BEGIN:DAYLIGHT
DTSTART:20260329T030000
TZOFFSETFROM:+0100
TZOFFSETTO:+0200
TZNAME:CEST
END:DAYLIGHT
END:VTIMEZONE
END:VCALENDAR