BEGIN:VCALENDAR
VERSION:2.0
PRODID:-//wp-events-plugin.com//7.2.3.1//EN
TZID:Europe/Paris
X-WR-TIMEZONE:Europe/Paris
BEGIN:VEVENT
UID:100@montbeugny.fr
DTSTART;TZID=Europe/Paris:20260301T093000
DTEND;TZID=Europe/Paris:20260301T093000
DTSTAMP:20260210T093858Z
URL:https://montbeugny.fr/events/marche-dhiver-de-sport-pour-tous-montbeug
 nois/
SUMMARY:Marche d'hiver de Sport pour Tous Montbeugnois
DESCRIPTION:
ATTACH;FMTTYPE=image/jpeg:https://montbeugny.fr/wp-content/uploads/2026/02
 /Info-pour-site-Internet-sport-pour-tous_page-0001.jpg
CATEGORIES:Manifestations associations
END:VEVENT
BEGIN:VTIMEZONE
TZID:Europe/Paris
X-LIC-LOCATION:Europe/Paris
BEGIN:STANDARD
DTSTART:20251026T020000
TZOFFSETFROM:+0200
TZOFFSETTO:+0100
TZNAME:CET
END:STANDARD
END:VTIMEZONE
END:VCALENDAR